BEGIN:VCALENDAR
VERSION:2.0
PRODID:-//San Diego County Track Starters Association - ECPv6.10.1//NONSGML v1.0//EN
CALSCALE:GREGORIAN
METHOD:PUBLISH
X-WR-CALNAME:San Diego County Track Starters Association
X-ORIGINAL-URL:https://www.sdctsa.org
X-WR-CALDESC:Events for San Diego County Track Starters Association
REFRESH-INTERVAL;VALUE=DURATION:PT1H
X-Robots-Tag:noindex
X-PUBLISHED-TTL:PT1H
BEGIN:VTIMEZONE
TZID:America/Los_Angeles
BEGIN:DAYLIGHT
TZOFFSETFROM:-0800
TZOFFSETTO:-0700
TZNAME:PDT
DTSTART:20200308T100000
END:DAYLIGHT
BEGIN:STANDARD
TZOFFSETFROM:-0700
TZOFFSETTO:-0800
TZNAME:PST
DTSTART:20201101T090000
END:STANDARD
END:VTIMEZONE
BEGIN:VEVENT
DTSTART;TZID=America/Los_Angeles:20200121T180000
DTEND;TZID=America/Los_Angeles:20200121T203000
DTSTAMP:20260425T071133
CREATED:20151217T203207Z
LAST-MODIFIED:20191120T002706Z
UID:886-1579629600-1579638600@www.sdctsa.org
SUMMARY:Meeting - First Year Class Only
DESCRIPTION:Room 302
URL:https://www.sdctsa.org/event/meeting-first-year-class-only-2/
LOCATION:San Diego County Office of Education\, 6401 Linda Vista Road\, San Diego\, 92111\, United States
END:VEVENT
BEGIN:VEVENT
DTSTART;TZID=America/Los_Angeles:20200111T080000
DTEND;TZID=America/Los_Angeles:20200111T130000
DTSTAMP:20260425T071133
CREATED:20191120T003623Z
LAST-MODIFIED:20191120T004735Z
UID:1097-1578729600-1578747600@www.sdctsa.org
SUMMARY:Starter Clinic #1
DESCRIPTION:Starter Clinic @ Otay Ranch
URL:https://www.sdctsa.org/event/starter-clinic-1/
END:VEVENT
BEGIN:VEVENT
DTSTART;TZID=America/Los_Angeles:20200106T180000
DTEND;TZID=America/Los_Angeles:20200106T203000
DTSTAMP:20260425T071133
CREATED:20151217T202427Z
LAST-MODIFIED:20191120T003320Z
UID:883-1578333600-1578342600@www.sdctsa.org
SUMMARY:Meeting - Study Guide & Mechanics Review
DESCRIPTION:Room 306 – Review Study Guide\, Starter Mechanics (First Year Class in Room 302)
URL:https://www.sdctsa.org/event/meeting-study-guide-mechanics-review/
LOCATION:San Diego County Office of Education\, 6401 Linda Vista Road\, San Diego\, 92111\, United States
END:VEVENT
END:VCALENDAR