BEGIN:VCALENDAR
VERSION:2.0
PRODID:-//San Diego County Track Starters Association - ECPv6.10.1//NONSGML v1.0//EN
CALSCALE:GREGORIAN
METHOD:PUBLISH
X-WR-CALNAME:San Diego County Track Starters Association
X-ORIGINAL-URL:https://www.sdctsa.org
X-WR-CALDESC:Events for San Diego County Track Starters Association
REFRESH-INTERVAL;VALUE=DURATION:PT1H
X-Robots-Tag:noindex
X-PUBLISHED-TTL:PT1H
BEGIN:VTIMEZONE
TZID:America/Los_Angeles
BEGIN:DAYLIGHT
TZOFFSETFROM:-0800
TZOFFSETTO:-0700
TZNAME:PDT
DTSTART:20200308T100000
END:DAYLIGHT
BEGIN:STANDARD
TZOFFSETFROM:-0700
TZOFFSETTO:-0800
TZNAME:PST
DTSTART:20201101T090000
END:STANDARD
BEGIN:DAYLIGHT
TZOFFSETFROM:-0800
TZOFFSETTO:-0700
TZNAME:PDT
DTSTART:20210314T100000
END:DAYLIGHT
BEGIN:STANDARD
TZOFFSETFROM:-0700
TZOFFSETTO:-0800
TZNAME:PST
DTSTART:20211107T090000
END:STANDARD
END:VTIMEZONE
BEGIN:VEVENT
DTSTART;TZID=America/Los_Angeles:20200413T180000
DTEND;TZID=America/Los_Angeles:20200413T203000
DTSTAMP:20260425T041304
CREATED:20151217T203923Z
LAST-MODIFIED:20191127T150116Z
UID:892-1586800800-1586809800@www.sdctsa.org
SUMMARY:Meeting - Situational Discussion & Board Elections
DESCRIPTION:16 Room 306 – Meet Situations Discussion\, 2 & 3 Man Mechanics\, Videos\, Election of 2021 Board\, Umpire Training
URL:https://www.sdctsa.org/event/meeting-situational-discussion-board-elections/
LOCATION:San Diego County Office of Education\, 6401 Linda Vista Road\, San Diego\, 92111\, United States
END:VEVENT
BEGIN:VEVENT
DTSTART;TZID=America/Los_Angeles:20200526T180000
DTEND;TZID=America/Los_Angeles:20200526T210000
DTSTAMP:20260425T041304
CREATED:20151217T204006Z
LAST-MODIFIED:20191120T001621Z
UID:893-1590516000-1590526800@www.sdctsa.org
SUMMARY:Starters Banquet
DESCRIPTION:@ TBD
URL:https://www.sdctsa.org/event/starters-banquet/
END:VEVENT
BEGIN:VEVENT
DTSTART;TZID=America/Los_Angeles:20210125T180000
DTEND;TZID=America/Los_Angeles:20210125T203000
DTSTAMP:20260425T041304
CREATED:20151217T201901Z
LAST-MODIFIED:20210123T220119Z
UID:880-1611597600-1611606600@www.sdctsa.org
SUMMARY:Meeting - Registration & Information
DESCRIPTION:Registration and New Arbiter Information\, Starter Kits and Study Guide will be handed out. Review of 2020 Financial Statement\, 2021 Budget\, New Rules
URL:https://www.sdctsa.org/event/meeting-registration-information/
END:VEVENT
END:VCALENDAR