BEGIN:VCALENDAR
VERSION:2.0
PRODID:-//San Diego County Track Starters Association - ECPv6.10.1//NONSGML v1.0//EN
CALSCALE:GREGORIAN
METHOD:PUBLISH
X-ORIGINAL-URL:https://www.sdctsa.org
X-WR-CALDESC:Events for San Diego County Track Starters Association
REFRESH-INTERVAL;VALUE=DURATION:PT1H
X-Robots-Tag:noindex
X-PUBLISHED-TTL:PT1H
BEGIN:VTIMEZONE
TZID:America/Los_Angeles
BEGIN:DAYLIGHT
TZOFFSETFROM:-0800
TZOFFSETTO:-0700
TZNAME:PDT
DTSTART:20200308T100000
END:DAYLIGHT
BEGIN:STANDARD
TZOFFSETFROM:-0700
TZOFFSETTO:-0800
TZNAME:PST
DTSTART:20201101T090000
END:STANDARD
END:VTIMEZONE
BEGIN:VEVENT
DTSTART;TZID=America/Los_Angeles:20200208T080000
DTEND;TZID=America/Los_Angeles:20200208T130000
DTSTAMP:20260424T125337
CREATED:20191120T004003Z
LAST-MODIFIED:20191120T004008Z
UID:1099-1581148800-1581166800@www.sdctsa.org
SUMMARY:Starter Clinic # 2
DESCRIPTION:Starter Clinic @ Patrick Henry HS
URL:https://www.sdctsa.org/event/starter-clinic-2/
END:VEVENT
BEGIN:VEVENT
DTSTART;TZID=America/Los_Angeles:20200208T090000
DTEND;TZID=America/Los_Angeles:20200208T120000
DTSTAMP:20260424T125337
CREATED:20151217T202712Z
LAST-MODIFIED:20191120T002836Z
UID:884-1581152400-1581163200@www.sdctsa.org
SUMMARY:Clinic - First Year Clinic
DESCRIPTION:First Year Clinic @ El Capitan HS
URL:https://www.sdctsa.org/event/clinic-first-year-clinic/
END:VEVENT
BEGIN:VEVENT
DTSTART;TZID=America/Los_Angeles:20200210T180000
DTEND;TZID=America/Los_Angeles:20200210T203000
DTSTAMP:20260424T125337
CREATED:20151217T203536Z
LAST-MODIFIED:20191120T002354Z
UID:887-1581357600-1581366600@www.sdctsa.org
SUMMARY:Meeting - Rules & Mechanics Review\, Qualification Exam
DESCRIPTION:Room 306 – Starter Mechanics\, Starter Check List\, Field Events & Breaking Ties\, TAKE QUALIFYING EXAM (First Year Class in Room 302)
URL:https://www.sdctsa.org/event/meeting-rules-mechanics-review-qualification-exam/
END:VEVENT
BEGIN:VEVENT
DTSTART;TZID=America/Los_Angeles:20200215T080000
DTEND;TZID=America/Los_Angeles:20200215T130000
DTSTAMP:20260424T125337
CREATED:20191120T004130Z
LAST-MODIFIED:20191120T004144Z
UID:1101-1581753600-1581771600@www.sdctsa.org
SUMMARY:Starter Clinic #3A
DESCRIPTION:@ TBD
URL:https://www.sdctsa.org/event/starter-clinic-3/
END:VEVENT
BEGIN:VEVENT
DTSTART;TZID=America/Los_Angeles:20200215T090000
DTEND;TZID=America/Los_Angeles:20200227T120000
DTSTAMP:20260424T125337
CREATED:20151217T203645Z
LAST-MODIFIED:20191120T002512Z
UID:888-1581757200-1582804800@www.sdctsa.org
SUMMARY:Clinics - Certified Starter Clinics
DESCRIPTION:Sites & Times TBD & Starters Assigned
URL:https://www.sdctsa.org/event/clinics-certified-starter-clinics/
END:VEVENT
BEGIN:VEVENT
DTSTART;TZID=America/Los_Angeles:20200222T080000
DTEND;TZID=America/Los_Angeles:20200222T130000
DTSTAMP:20260424T125337
CREATED:20191120T004311Z
LAST-MODIFIED:20191120T004311Z
UID:1104-1582358400-1582376400@www.sdctsa.org
SUMMARY:Starter Clinic #3B
DESCRIPTION:@ TBD
URL:https://www.sdctsa.org/event/starter-clinic-3b/
END:VEVENT
BEGIN:VEVENT
DTSTART;TZID=America/Los_Angeles:20200224T180000
DTEND;TZID=America/Los_Angeles:20200224T180000
DTSTAMP:20260424T125338
CREATED:20151217T202246Z
LAST-MODIFIED:20191120T003201Z
UID:882-1582567200-1582567200@www.sdctsa.org
SUMMARY:Meeting - First Year Class Only
DESCRIPTION:Room 302
URL:https://www.sdctsa.org/event/meeting-first-year-class-only/
LOCATION:San Diego County Office of Education\, 6401 Linda Vista Road\, San Diego\, 92111\, United States
END:VEVENT
END:VCALENDAR