BEGIN:VCALENDAR
VERSION:2.0
PRODID:-//San Diego County Track Starters Association - ECPv6.10.1//NONSGML v1.0//EN
CALSCALE:GREGORIAN
METHOD:PUBLISH
X-WR-CALNAME:San Diego County Track Starters Association
X-ORIGINAL-URL:https://www.sdctsa.org
X-WR-CALDESC:Events for San Diego County Track Starters Association
REFRESH-INTERVAL;VALUE=DURATION:PT1H
X-Robots-Tag:noindex
X-PUBLISHED-TTL:PT1H
BEGIN:VTIMEZONE
TZID:America/Los_Angeles
BEGIN:DAYLIGHT
TZOFFSETFROM:-0800
TZOFFSETTO:-0700
TZNAME:PDT
DTSTART:20200308T100000
END:DAYLIGHT
BEGIN:STANDARD
TZOFFSETFROM:-0700
TZOFFSETTO:-0800
TZNAME:PST
DTSTART:20201101T090000
END:STANDARD
END:VTIMEZONE
BEGIN:VEVENT
DTSTART;TZID=America/Los_Angeles:20200302T180000
DTEND;TZID=America/Los_Angeles:20200302T203000
DTSTAMP:20260424T112235
CREATED:20151217T203722Z
LAST-MODIFIED:20191128T013436Z
UID:889-1583172000-1583181000@www.sdctsa.org
SUMMARY:Meeting - Rules & Mechanics Discussion
DESCRIPTION:Room 306 – Test Review\, Discussion related to Running Events\, Track Set-up\, Lead Starter Duties\, Videos – Situations/Scenarios Discussion (First Year Class in Room 302)
URL:https://www.sdctsa.org/event/meeting-rules-mechanics-discussion/
LOCATION:San Diego County Office of Education\, 6401 Linda Vista Road\, San Diego\, 92111\, United States
END:VEVENT
BEGIN:VEVENT
DTSTART;TZID=America/Los_Angeles:20200316T180000
DTEND;TZID=America/Los_Angeles:20200316T203000
DTSTAMP:20260424T112235
CREATED:20151217T203800Z
LAST-MODIFIED:20191119T232724Z
UID:890-1584381600-1584390600@www.sdctsa.org
SUMMARY:Meeting - Make-up Meeting
DESCRIPTION:Room 302 – MAKE-UP MEETING – Video\, Discussions\, Mechanics\, Review
URL:https://www.sdctsa.org/event/meeting-make-up-meeting/
LOCATION:San Diego County Office of Education\, 6401 Linda Vista Road\, San Diego\, 92111\, United States
END:VEVENT
BEGIN:VEVENT
DTSTART;TZID=America/Los_Angeles:20200323T180000
DTEND;TZID=America/Los_Angeles:20200323T203000
DTSTAMP:20260424T112235
CREATED:20151217T203842Z
LAST-MODIFIED:20191120T001820Z
UID:891-1584986400-1584995400@www.sdctsa.org
SUMMARY:Meeting - Situational Discussion
DESCRIPTION:Room 306 – Discussion related to Field Events\, Breaking Ties\, Scenarios\, Umpire Training. Nominations for 2020 Officers & At-Large Board Member and those expressing interest in Appointed Position (First Year Class in Room 302)
URL:https://www.sdctsa.org/event/meeting-situational-discussion/
LOCATION:San Diego County Office of Education\, 6401 Linda Vista Road\, San Diego\, 92111\, United States
END:VEVENT
END:VCALENDAR